BEGIN:VCALENDAR
VERSION:2.0
PRODID:-//Ayuntamiento de Aigües - ECPv6.15.15//NONSGML v1.0//EN
CALSCALE:GREGORIAN
METHOD:PUBLISH
X-WR-CALNAME:Ayuntamiento de Aigües
X-ORIGINAL-URL:https://www.aigues.es
X-WR-CALDESC:Eventos para Ayuntamiento de Aigües
REFRESH-INTERVAL;VALUE=DURATION:PT1H
X-Robots-Tag:noindex
X-PUBLISHED-TTL:PT1H
BEGIN:VTIMEZONE
TZID:Europe/Madrid
BEGIN:DAYLIGHT
TZOFFSETFROM:+0100
TZOFFSETTO:+0200
TZNAME:CEST
DTSTART:20250330T010000
END:DAYLIGHT
BEGIN:STANDARD
TZOFFSETFROM:+0200
TZOFFSETTO:+0100
TZNAME:CET
DTSTART:20251026T010000
END:STANDARD
BEGIN:DAYLIGHT
TZOFFSETFROM:+0100
TZOFFSETTO:+0200
TZNAME:CEST
DTSTART:20260329T010000
END:DAYLIGHT
BEGIN:STANDARD
TZOFFSETFROM:+0200
TZOFFSETTO:+0100
TZNAME:CET
DTSTART:20261025T010000
END:STANDARD
BEGIN:DAYLIGHT
TZOFFSETFROM:+0100
TZOFFSETTO:+0200
TZNAME:CEST
DTSTART:20270328T010000
END:DAYLIGHT
BEGIN:STANDARD
TZOFFSETFROM:+0200
TZOFFSETTO:+0100
TZNAME:CET
DTSTART:20271031T010000
END:STANDARD
END:VTIMEZONE
BEGIN:VEVENT
DTSTART;TZID=Europe/Madrid:20260328T200000
DTEND;TZID=Europe/Madrid:20260328T213000
DTSTAMP:20260423T220528
CREATED:20260324T084853Z
LAST-MODIFIED:20260324T085602Z
UID:10000883-1774728000-1774733400@www.aigues.es
SUMMARY:Concierto de Semana Santa - Iglesia San Francisco de Asís
DESCRIPTION:El próximo sábado empezamos la Semana Santa en Aigües con un concierto muy especial en nuestra querida iglesia\, un concierto del Coro de Cámara Contrapunctum. Este coro\, que durante años ha cantado en el concatedral de San Nicolas en Alicante\, se ha creado para promocionar la música coral de la época renacentista. Para esta noche han preparado un programa con obras del Renacimiento de carácter sacro y adecuadas al periodo de Cuaresma – Semana Santa. Es importante llegar a tiempo\, porque el concierto comenzará de una manera especial.
URL:https://www.aigues.es/event/concierto-de-semana-santa-iglesia-san-francisco-de-asis/
LOCATION:Iglesia San Francisco de Asís\, Plaça de ĽEsglesia\, 6\, 03569 Aigües\, Alicante\, Aigües\, Alicante\, 03569\, Spain
CATEGORIES:destacadas,noticias
ATTACH;FMTTYPE=image/jpeg:https://www.aigues.es/wp-content/uploads/2026/03/Concierto-Semana-Santa-2026.jpg
END:VEVENT
END:VCALENDAR